BEGIN:VCALENDAR
METHOD:PUBLISH
VERSION:2.0
PRODID:-//Eventilla iCal Syndication//NONSGML Liana//EN
BEGIN:VEVENT
UID:00MYO@eventilla.com
DTSTAMP:20220823T100000Z
DTSTART:20220823T100000Z
DTEND:20220823T110000Z
SUMMARY:Avainlippu-kampanjainfo: Syksy I
DESCRIPTION:Syksyn kampanjatoimenpiteet ja aineistot\nJärjestämme toisen tilaisuuden 25.8.2022 klo 13-14. Tilaisuudet ovat samansisältöisia.\nOhjelmassa mm.\n\nTervetuloa! Toimitusjohtaja Tero Lausala\nAvainlipun syksyn toimenpiteet ja uudet aineistot\, markkinointipäällikkö Reetta Mentu ja projektipäällikkö Merja Mantila\nLöydä yleisösi: B2B-yrityksen kohdennusmahdollisuudet sosiaalisessa mediassa\, sisältöstategi Katja Mikkola\, LM Someco\n
LOCATION:Teams
URL:http://tapahtumat.suomalainentyo.fi/event/00MYO
END:VEVENT
END:VCALENDAR
