BEGIN:VCALENDAR
METHOD:PUBLISH
VERSION:2.0
PRODID:-//Eventilla iCal Syndication//NONSGML Liana//EN
BEGIN:VEVENT
UID:1Er0V@eventilla.com
DTSTAMP:20261001T090000Z
DTSTART:20261001T090000Z
DTEND:20261001T130000Z
SUMMARY:Syty!-seminaari 2026
DESCRIPTION:Varaa päivä kalenteriisi ja kuvittele päivä\, jolloin astut ulos arjen rutiineista ja sukellat syvälle työelämän uusiin mahdollisuuksiin!\nLämpimästi tervetuloa jo perinteeksi muodostuneeseen syyskauden valovoimaisimpaan SYTY! -seminaariin herättelemään mieltä uuteen ajatteluun. Iltapäivä on täydellinen tilaisuus luoda uusia kontakteja ja syventää päivän aikana syntyneitä oivalluksia.\n"Tilaisuudessa oli tosi hyviä ulkopuolisia puhujia. Videot rytmittivät ja katkaisivat kivasti tiivistä ohjelmaa. Tilaisuudessa pysyi koko ajan positiivinen vire\, jota tällaisina aikoina todella kaipaa."-Vuoden 2025 tapahtuman osallistuja\n"Tilaisuus oli erinomaisesti järjestetty. Puhujat olivat korkealaatuisia ja mielenkiintoisia ja juontajat ihanan iloisia ja reippaita. Tapahtumasta jäi todella hyvä mieli. Paras tilaisuus pitkään aikaan." - Vuoden 2024 tapahtuman osallistuja\nLiity joukkoomme Syty! -seminaarissa ja koe\, kuinka yksi tapahtuma voi sytyttää uudenlaista ajattelua työelämästä. Ja kaikki tämä työpositiivisuuden hengessä!\nOhjelma\nTapahtuman ohjelma päivittyy kevään aikana. Varaa jo päivä kalenteriin ja halutessasi voit jo ilmoittautua mukaan!
LOCATION:Lasipalatsin Bio Rex\, Mannerheimintie 22-24, Helsinki\, 00100\,
 Helsinki
URL:http://tapahtumat.suomalainentyo.fi/event/1Er0V
END:VEVENT
END:VCALENDAR
