BEGIN:VCALENDAR
METHOD:PUBLISH
VERSION:2.0
PRODID:-//Eventilla iCal Syndication//NONSGML Liana//EN
BEGIN:VEVENT
UID:Wp0O3@eventilla.com
DTSTAMP:20260520T103000Z
DTSTART:20260520T103000Z
DTEND:20260520T130000Z
SUMMARY:LIVE Helsingissä 20.5. – Keskustelua\, näkemyksiä ja kohtaamisia
DESCRIPTION:Faktat\, jotka herättävät ajatuksia. Merkityksiä\, jotka yhdistävät.\nTervetuloa mukaan inspiroivaan iltapäivään\, jossa keskitymme työelämän hyviin puoliin ja suomalaiseen työhön! Kutsumme nyt yhteen alueen yrityksiä\, jotta voimme käydä yhteistä keskustelua ja luoda innostavaa ja menestyvää työelämää.\n“Tilaisuudessa oli hyvä ja välitön tunnelma – tuli aidosti tervetullut olo.”\n“Kiva tasapaino keskustelun ja esitysten välillä. Oli hienoa verkostoitua ja kohdata kasvotusten.”\nTilaisuudessa saat mahdollisuuden verkostoitua muiden alueen yritysten edustajien kanssa ja kuulet työelämän ajankohtaisia asioita sekä sukellat merkkien merkitykselliseen maailmaan. \nYhdistyksen edustajat ovat paikalla jakamassa tietoa ja vastaamassa kysymyksiin\, sekä kuuntelemassa sinun ja yrityksesi toiveita ja tarpeita.\nTilaisuus järjestetään Tekniskasalissa\, keskiviikkona 20.5.2026 klo 13.30–16.00\, os. Eerikinkatu 2\, 00100 Helsinki. Tule mukaan jakamaan ideoita ja näkemyksiä\, sekä verkostoitumaan kahvikupin äärellä! Tilaisuus on maksuton.\nOhjelma\n\nKlo 13.30 Tapahtuma alkaa\n\nVerkostoitumista iltapäiväkahvien yhteydessä\nOsallistujien esittely\n\n\nKlo 14.30 Kääntyykö Suomi vihdoin kasvuun ja mitä tapahtuu työmarkkinoilla\n\ntoimitusjohtaja Juhana Brotherus\n\n\nKlo 14:50 Työelämäindeksin uusia löydöksiä\n\ntutkimuspäällikkö Jokke Eljala\n\n\nKlo 15.10 Enemmän kuin merkki: mitä kolme merkkiämme viestivät ja miksi niillä on merkitystä\n\nasiakkuuspäälliköt Nina Pohjoiskoski ja Minna Varis\n\n\nn. klo 15.30 yhteistä keskustelua\nKlo 16.00 tilaisuus päättyy\n\nMukaan mahtuu 75 henkilöä. Ilmoittaudu mukaan viimeistään 8.5. mennessä. Ilmoittautuminen on sitova\, jotta voimme varautua tarjoiluihin. \nLämpimästi tervetuloa!
LOCATION:Tekniska\, Eerikinkatu 2\, 00100\, Helsinki
URL:http://tapahtumat.suomalainentyo.fi/event/Wp0O3
END:VEVENT
END:VCALENDAR
