BEGIN:VCALENDAR
METHOD:PUBLISH
VERSION:2.0
PRODID:-//Eventilla iCal Syndication//NONSGML Liana//EN
BEGIN:VEVENT
UID:ZPP1o@eventilla.com
DTSTAMP:20220617T060000Z
DTSTART:20220617T060000Z
DTEND:20220617T070000Z
SUMMARY:Design from Finland: Info merkin hyödyntämiseen
DESCRIPTION:Infotilaisuus on tarkoitettu uusien ja vanhojen Design from Finland -merkkiyritysten työntekijöille\, jotka haluavat vinkkejä siitä\, miten käyttää merkkiä liiketoiminnan tukena.\nTule kuulemaan\, minkälaisia valmiita aineistoja löytyy avuksenne extranet-jäsenpalvelusta. Design from Finland -merkin asiakkuuspäällikkö Minna Varis antaa vinkkejä\, miten hyödyntää merkkiä monipuolisesti markkinoinnissa ja viestinnässä.\nStockmannin Style & Comercial Planning Lead Mia Salomonsson on mukana kertomassa\, miten he hyödyntävät Design from Finland -merkkiä omien vaatebrändiensä yhteydessä. \nTervetuloa mukaan poimimaan vinkkejä merkin käyttöön!\nTilaisuus järjestetään TEAMS-alustalla. 
LOCATION:Teams
URL:http://tapahtumat.suomalainentyo.fi/event/ZPP1o
END:VEVENT
END:VCALENDAR
