BEGIN:VCALENDAR
METHOD:PUBLISH
VERSION:2.0
PRODID:-//Eventilla iCal Syndication//NONSGML Liana//EN
BEGIN:VEVENT
UID:ed21A@eventilla.com
DTSTAMP:20251120T110000Z
DTSTART:20251120T110000Z
DTEND:20251120T141500Z
SUMMARY:Työelämän suunnannäyttäjät: merkitys\, arvot ja vaikuttavuus
DESCRIPTION:ARVO ja Suomalaisen työn Yhteiskunnallinen Yritys -merkki kutsuvat sinut inspiroivaan tapahtumaan torstaina 20.11. klo 13.00-16.00\, jossa suuntaamme katseen työn ja yritystoiminnan tulevaisuuteen. Tapahtumassa tarkastelemme yhteiskunnallisten yritysten kasvavaa roolia murroksessa olevassa maailmassa – siellä\, missä liiketoiminta ja arvopohjainen vaikuttaminen kohtaavat.\nOhjelmassa kuulemme europarlamentaarikko Sirpa Pietikäisen näkemyksiä EU:n suunnasta\, keskustelemme yritysten mahdollisuuksista toimia yhteiskunnallisina muutosvoimina\, sukellamme eri sukupolvien kokemuksiin merkityksellisestä työstä ja annamme nuorille äänen tulevaisuuden rakentajina. Päätämme päivän juhlistamalla vastuullisuutta ja vaikuttavuutta Vaikuttavin yritys -kilpailun palkitsemistilaisuudessa.\nTule mukaan kuulemaan\, keskustelemaan ja vaikuttamaan – koska tulevaisuus tehdään tänään.\nTilaisuus on tarkoitettu sekä Arvon jäsenille että Yhteiskunnallinen Yritys -merkkiyrityksille sekä kaikille\, joita teema kiinnostaa. Ilmoittaudu 6.11. mennessä.\nAika: Torstaina 20.11.2025 klo 13.00-16.00. Tilaisuus alkaa verkostoitumiskahveilla klo 13.00 ja ohjelma klo 14.00 eteenpäin. \nPaikka: Tekniska\, Eerikinkatu 2\, Helsinki\nOhjelma:\n\nTyön ja yritystoiminnan tulevaisuus. Yhteiskunnallisten yritysten rooli\, terveiset EU:sta - Sirpa Pietikäinen\nPaneelikeskustelu: yritystoiminnan tulevaisuus -  yritykset muutosvoimana.Panelistit:\n\nHenri Valvanne\, AtCare / Minduu\nMarja Pajulahti\, Live-säätiö\nSatu Niemelä\, Tradeka\nJuho Makkonen\, Sharetribe\n\n\nMerkityksellinen työ – erilaiset sukupolvet - Jenni Rajahalme\nNuorten visioita työelämästä - utopiaa vai tulevaisuuden suunta? - Mila Nikkanen\, MakeSomeNoise -verkosto / Diakonissalaitos \nVaikuttavin yritys -kilpailun palkitseminen \n\n
LOCATION:Tekniska\, Eerikinkatu 2, Helsinki\, 00100\, Helsinki
URL:http://tapahtumat.suomalainentyo.fi/event/ed21A
END:VEVENT
END:VCALENDAR
