BEGIN:VCALENDAR
METHOD:PUBLISH
VERSION:2.0
PRODID:-//Eventilla iCal Syndication//NONSGML Liana//EN
BEGIN:VEVENT
UID:jwYB3@eventilla.com
DTSTAMP:20200924T070000Z
DTSTART:20200924T070000Z
DTEND:20200924T080000Z
SUMMARY:Avainlippu-yritysten INFO - Vinkkejä merkin hyödyntämiseen
DESCRIPTION:Infotilaisuus on tarkoitettu etenkin uusille Avainlippu-yrityksille\, jotka haluavat vinkkejä siitä\, miten käyttää merkkiä. Avainlippu-merkin asiakkuuspäällikkö Nina Pohjoiskoski kertoo muutaman vinkin\, kuinka pääset alkuun Avainlippu-merkin hyödyntämisessä. Käymme myös läpi mitä extranet-jäsenpalvelu sisältää. Tervetuloa mukaan!\nTilaisuus toteutetaan etänä Teams-alustan kautta.
LOCATION:Teams
URL:http://tapahtumat.suomalainentyo.fi/event/jwYB3
END:VEVENT
END:VCALENDAR
