BEGIN:VCALENDAR
METHOD:PUBLISH
VERSION:2.0
PRODID:-//Eventilla iCal Syndication//NONSGML Liana//EN
BEGIN:VEVENT
UID:mkB96@eventilla.com
DTSTAMP:20210909T053000Z
DTSTART:20210909T053000Z
DTEND:20210909T070000Z
SUMMARY:Miten päättäjänä voit valita työtä ja elinvoimaa kuntiin?
DESCRIPTION:Tilaisuus järjestetään yhteistyössä Suomalaisen Työn Liiton\, Suomen Yrittäjien ja Maa- ja metsätaloustuottajain Keskusliitto MTK:n kanssa ja se on tarkoitettu kuntavaikuttajille: päättäjille\, virkamiehille ja luottamushenkilöille\nMiten päättäjänä voit valita työtä ja elinvoimaa kuntiin? \nTervetuloa kuulemaan kotimaisten hankintojen merkityksestä kuntien elinvoimaisuudelle ja työllisyydelle ja miten päättäjänä voi vaikuttaa siihen.\nTilaisuudessa keskustellaan eri näkökulmista millaisia asioita kunnissa kannattaa ottaa huomioon kilpailutuksia tehdessä ja miten kunnan asioista päättävät henkilöt voivat vaikuttaa osaltaan kuntansa elinvoimaisuuteen ja positiiviseen kehitykseen.\nTapahtumassa kuullaan myös valtuutetun ja yrittäjän puheenvuorot hankinnoista.\nTilaisuuden juontaa päätoimittaja Jouni Kemppainen.\nOhjelma:\n\nTervetuloa\, päätoimittaja Jouni Kemppainen\nVoiko suomalaista suosia hankinnoissa? toimitusjohtaja Tero Lausala\, Suomalaisen Työn Liitto\nMiten kunnan maankäyttö- ja ympäristöpolitiikalla vaikutetaan läheltä tehtäviin hankintoihin? puheenjohtaja Juha Marttila\, MTK\nEi kuntaa ilman yrityksiä\, toimitusjohtaja Juha Haukka\, Hämeen Yrittäjät\n\nKommentit:\n\n\nValtuutettuna hankintoihin vaikuttamassa\, Jari Haapaniemi\, kaupunginvaltuutettu\, Nokian kaupunki\n\n\nYrittäjänä hankintoihin vaikuttamassa\, Anne Paljakka\, Loimaan Kivi Oy\n\n\nLämpimästi tervetuloa!\nYhteistyössä: Suomalaisen Työn Liitto\, Suomen Yrittäjät ja MTK\n
LOCATION:Teams-alusta
URL:http://tapahtumat.suomalainentyo.fi/event/mkB96
END:VEVENT
END:VCALENDAR
