BEGIN:VCALENDAR
METHOD:PUBLISH
VERSION:2.0
PRODID:-//Eventilla iCal Syndication//NONSGML Liana//EN
BEGIN:VEVENT
UID:nX482@eventilla.com
DTSTAMP:20210423T070000Z
DTSTART:20210423T070000Z
DTEND:20210423T080000Z
SUMMARY:Design from Finland: Teams koulutus merkin hyödyntämisen mahdollisuuksista
DESCRIPTION:\n\n\n \n\nDesign from Finland -merkin uusille jäsenyrityksille perustietoja merkistä ja vanhemmille jäsenille kertausta merkin hyödyntämismahdollisuuksista. Infomme sisältää paljon tietoa kaikille merkkiyrityksille. Tilaisuudessa kuullaan vinkkejä merkin hyödyntämiseen. Käymme myös läpi mitä extranet-jäsenpalvelu sisältää.\nInfon avaa liiton toimitusjohtaja Tero Lausala ja merkkiin liittyviä tutkimustuloksia avaa tutkimuspäällikkömme Jokke Eljala. Asiakaskoordinaattori Annina Rauhala kertoo vinkeistä merkin hyödyntämiseen.\nTilaisuus järjestetään TEAMS-alustalla. Liittymislinkki lähetetään ilmoittautuneille tilaisuuspäivän aamuna.\nLämpimästi tervetuloa!\n\n\n\n\n 
LOCATION:Teams-alusta
URL:http://tapahtumat.suomalainentyo.fi/event/nX482
END:VEVENT
END:VCALENDAR
