BEGIN:VCALENDAR
METHOD:PUBLISH
VERSION:2.0
PRODID:-//Eventilla iCal Syndication//NONSGML Liana//EN
BEGIN:VEVENT
UID:pERWw@eventilla.com
DTSTAMP:20230919T100000Z
DTSTART:20230919T100000Z
DTEND:20230919T110000Z
SUMMARY:Avainlippu-kampanjainfo I: Syksyn 2023 toimenpiteet
DESCRIPTION:Tule kuulemaan syyskuun kampanjainfoihin Avainlipun B2B-kampanjasta ja muista ajankohtaisista asioista!\nOhjelma\nTervetuloa!Toimitusjohtaja Katri Viippola\, Suomalaisen Työn Liitto\nAvainlipun B2B-lähtö ja miten Avainlipun käyttäjät voivat liittyä kampanjaanProjektipäällikkö Merja Mantila\, Suomalaisen Työn Liitto\nLöydä sinulle sopivat Avainlippu-aineistot!Asiakkuuspäällikkö Nina Pohjoiskoski\nSomekirjoittamisen trendit + B2B-yritys sosiaalisessa mediassa: brändin rakentaminen ja tärkeimmät sosiaalisen median uudistuksetVaratoimitusjohtaja Maarit Niemelä\, LM Someco Oy\nJärjestämme toisen tilaisuuden 21.9.2023 klo 13-14. Tilaisuudet ovat samansisältöisia.
LOCATION:Teams
URL:http://tapahtumat.suomalainentyo.fi/event/pERWw
END:VEVENT
END:VCALENDAR
