BEGIN:VCALENDAR
METHOD:PUBLISH
VERSION:2.0
PRODID:-//Eventilla iCal Syndication//NONSGML Liana//EN
BEGIN:VEVENT
UID:xYBOO@eventilla.com
DTSTAMP:20211006T100000Z
DTSTART:20211006T100000Z
DTEND:20211006T130000Z
SUMMARY:Verkkokauppakoulutus osa 3: Tuotteet\, tuotetieto\, teknologia ja tilaus-toimitus-prosessi
DESCRIPTION:\n\n\n \n\nDigitaalisen kaupan murros tarjoaa valtavasti mahdollisuuksia ihan kaikille\, yrityksen kokoon ja toimialaan katsomatta – maailma on oikeasti jokaisen yrityksen markkina.\nTule mukaan tähän neliosaiseen koulutukseen\, jonka aikana tutustut verkkokaupan mahdollisuuksiin sekä saat konkreettisia eväitä verkkoliiketoiminnan käynnistämiseen ja kehittämiseen.\nKoulutuspäivä 3: Tuotteet\, tuotetieto\, teknologia ja tilaus-toimitus-prosessi\n\nVerkkokaupan rakenne\nTuotteiden perustaminen ja valikoiman hallinta\nTuotetieto ja muut sisällöt\nLöydettävyys kuntoon\nVerkkokauppa-ohjelmistot\, mikä sopii kenellekin\nTärkeimmät lisäarvotyökalut\nAnalytiikka - tiedolla johtaminen tuo aina tuloksia\nAsiakaspalvelun neljä roolia\nTilaus-toimitus -prosessi\nLogistiikka ja maksutavat\n\nLähetämme Teams-linkin koulutukseen ilmoittautuneille. Maksimiosallistujamäärä 300. Koulutus on tarkoitettu Suomalaisen Työn Liiton jäsenyritysten edustajille ja se on veloitukseton.\nMuistathan ilmoittautua myös neljänteen koulutuspäivään:\n4. koulutuspäivä: 28.10. klo 13-16\nKouluttaja: Leevi Parsama\, Digital Commerce Specialist\n\nKouluttajana toimii digitaalisen kaupan asiantuntija Leevi Parsama\, joka tunnetaan kotimaisen verkkokaupan vahvana vaikuttajana. Hän on henkilökohtaisesti tavannut yli 500 suomalaista verkkokauppaa\, joten hän tuntee kotimarkkinan paremmin kuin ehkä kukaan muu. Lisäksi hän on tutustunut verkkokauppamarkkinaan USA:ssa\, Kiinassa\, Venäjälle sekä eri puolilla Eurooppaa. Päätyökseen Leevi toimii asiantuntijana kolmen sadan suomalaisen yrityksen muodostamassa Experience Commerce kasvuohjelmassa. Hän edistää tiiminsä kanssa kaikin keinoin digitaalisen kaupan kansainvälistä kasvua sekä kehittää alan ekosysteemiä kotimaassa.\nLeevi on itsekin toiminut globaalisti myyvän yrityksen verkkokauppiaana\, joten markkinatuntemuksen lisäksi hänellä on paljon omakohtaista kokemusta alasta. Tällä hetkellä hän työstää myös digitaalisen kaupan strategioita suomalaisille brändeille sekä toimii johtoryhmien ja hallitusten sparraajana asiakaskokemukseen ja digitalisaatioon liittyvissä hankkeissa. Vuonna 2017 Leevi valittiin Vuoden verkkokauppavaikuttajaksi Suomessa. Monet tuntevat hänet myös Facebookin suositun Verkkokauppiaat ryhmän asiantuntevana ja innostavana moderaattorina.\n\n\n\n\n 
LOCATION:Teams
URL:http://tapahtumat.suomalainentyo.fi/event/xYBOO
END:VEVENT
END:VCALENDAR
